BEGIN:VCALENDAR
VERSION:2.0
PRODID:-//NACM Intermountain - ECPv6.15.20//NONSGML v1.0//EN
CALSCALE:GREGORIAN
METHOD:PUBLISH
X-WR-CALNAME:NACM Intermountain
X-ORIGINAL-URL:https://www.nacmint.com
X-WR-CALDESC:Events for NACM Intermountain
REFRESH-INTERVAL;VALUE=DURATION:PT1H
X-Robots-Tag:noindex
X-PUBLISHED-TTL:PT1H
BEGIN:VTIMEZONE
TZID:America/Denver
BEGIN:DAYLIGHT
TZOFFSETFROM:-0700
TZOFFSETTO:-0600
TZNAME:MDT
DTSTART:20240310T090000
END:DAYLIGHT
BEGIN:STANDARD
TZOFFSETFROM:-0600
TZOFFSETTO:-0700
TZNAME:MST
DTSTART:20241103T080000
END:STANDARD
BEGIN:DAYLIGHT
TZOFFSETFROM:-0700
TZOFFSETTO:-0600
TZNAME:MDT
DTSTART:20250309T090000
END:DAYLIGHT
BEGIN:STANDARD
TZOFFSETFROM:-0600
TZOFFSETTO:-0700
TZNAME:MST
DTSTART:20251102T080000
END:STANDARD
BEGIN:DAYLIGHT
TZOFFSETFROM:-0700
TZOFFSETTO:-0600
TZNAME:MDT
DTSTART:20260308T090000
END:DAYLIGHT
BEGIN:STANDARD
TZOFFSETFROM:-0600
TZOFFSETTO:-0700
TZNAME:MST
DTSTART:20261101T080000
END:STANDARD
END:VTIMEZONE
BEGIN:VEVENT
DTSTART;TZID=America/Denver:20251028T100000
DTEND;TZID=America/Denver:20251028T110000
DTSTAMP:20260419T081518
CREATED:20251006T175619Z
LAST-MODIFIED:20251006T175619Z
UID:3462-1761645600-1761649200@www.nacmint.com
SUMMARY:Vendor Webinar - Equifax: Ordering IRS Tax Transcripts in VIP
DESCRIPTION:View the ordering process for IRS tax transcripts for a business or an individual as well as the report output. \n*This event is being presented by a third-party partner of NACM Intermountain. This post is for informational purposes only. Our team is not responsible for the content presented or technical issues you may encounter while participating. 
URL:https://www.nacmint.com/event/vendor-webinar-equifax-ordering-irs-tax-transcripts-in-vip/
END:VEVENT
BEGIN:VEVENT
DTSTART;TZID=America/Denver:20251028T110000
DTEND;TZID=America/Denver:20251028T120000
DTSTAMP:20260419T081518
CREATED:20251006T175509Z
LAST-MODIFIED:20251006T175509Z
UID:3460-1761649200-1761652800@www.nacmint.com
SUMMARY:Vendor Webinar - Equifax: Network Verification Services (NVS): When Life Isn't Instant\, We Have Your Solutions
DESCRIPTION:The Work Number® delivers instant income and employment verifications. But what happens when The Work Number doesn’t have the employer record(s) you are looking for? Network Verification Services (NVS) has solutions to provide you with 97% coverage for all your verification needs. Join us as Senior Director of Operations Erin Graves and Product Manager Chad Cheney explain more about NVS solutions available for your industry. \n*This event is being presented by a third-party partner of NACM Intermountain. This post is for informational purposes only. Our team is not responsible for the content presented or technical issues you may encounter while participating. 
URL:https://www.nacmint.com/event/vendor-webinar-equifax-network-verification-services-nvs-when-life-isnt-instant-we-have-your-solutions-2/
END:VEVENT
END:VCALENDAR