BEGIN:VCALENDAR
VERSION:2.0
PRODID:-//NACM Intermountain - ECPv6.15.20//NONSGML v1.0//EN
CALSCALE:GREGORIAN
METHOD:PUBLISH
X-ORIGINAL-URL:https://www.nacmint.com
X-WR-CALDESC:Events for NACM Intermountain
REFRESH-INTERVAL;VALUE=DURATION:PT1H
X-Robots-Tag:noindex
X-PUBLISHED-TTL:PT1H
BEGIN:VTIMEZONE
TZID:America/Denver
BEGIN:DAYLIGHT
TZOFFSETFROM:-0700
TZOFFSETTO:-0600
TZNAME:MDT
DTSTART:20250309T090000
END:DAYLIGHT
BEGIN:STANDARD
TZOFFSETFROM:-0600
TZOFFSETTO:-0700
TZNAME:MST
DTSTART:20251102T080000
END:STANDARD
BEGIN:DAYLIGHT
TZOFFSETFROM:-0700
TZOFFSETTO:-0600
TZNAME:MDT
DTSTART:20260308T090000
END:DAYLIGHT
BEGIN:STANDARD
TZOFFSETFROM:-0600
TZOFFSETTO:-0700
TZNAME:MST
DTSTART:20261101T080000
END:STANDARD
BEGIN:DAYLIGHT
TZOFFSETFROM:-0700
TZOFFSETTO:-0600
TZNAME:MDT
DTSTART:20270314T090000
END:DAYLIGHT
BEGIN:STANDARD
TZOFFSETFROM:-0600
TZOFFSETTO:-0700
TZNAME:MST
DTSTART:20271107T080000
END:STANDARD
END:VTIMEZONE
BEGIN:VEVENT
DTSTART;TZID=America/Denver:20260127T120000
DTEND;TZID=America/Denver:20260127T130000
DTSTAMP:20260419T073106
CREATED:20251125T180824Z
LAST-MODIFIED:20251125T180824Z
UID:3615-1769515200-1769518800@www.nacmint.com
SUMMARY:Trade Group - Equipment Dealers
DESCRIPTION:Industry Groups meet to maximize your business needs by leveraging the collective knowledge of your industry peers. All Industry Trade Groups adhere to strict antitrust law and best ethical practices. For more information visit the Groups page on this site.
URL:https://www.nacmint.com/event/trade-group-equipment-dealers-2/
END:VEVENT
BEGIN:VEVENT
DTSTART;TZID=America/Denver:20260127T120000
DTEND;TZID=America/Denver:20260127T130000
DTSTAMP:20260419T073106
CREATED:20251125T180912Z
LAST-MODIFIED:20251125T180912Z
UID:3617-1769515200-1769518800@www.nacmint.com
SUMMARY:Trade Group - Steel & Welders
DESCRIPTION:Industry Groups meet to maximize your business needs by leveraging the collective knowledge of your industry peers. All Industry Trade Groups adhere to strict antitrust law and best ethical practices. For more information visit the Groups page on this site.
URL:https://www.nacmint.com/event/trade-group-steel-welders-2/
END:VEVENT
BEGIN:VEVENT
DTSTART;TZID=America/Denver:20260127T133000
DTEND;TZID=America/Denver:20260127T143000
DTSTAMP:20260419T073106
CREATED:20251125T181005Z
LAST-MODIFIED:20251125T181005Z
UID:3619-1769520600-1769524200@www.nacmint.com
SUMMARY:Trade Group - Arizona Construction
DESCRIPTION:Industry Groups meet to maximize your business needs by leveraging the collective knowledge of your industry peers. All Industry Trade Groups adhere to strict antitrust law and best ethical practices. For more information visit the Groups page on this site.
URL:https://www.nacmint.com/event/trade-group-arizona-construction/
END:VEVENT
END:VCALENDAR