BEGIN:VCALENDAR
VERSION:2.0
PRODID:-//NACM Intermountain - ECPv6.15.20//NONSGML v1.0//EN
CALSCALE:GREGORIAN
METHOD:PUBLISH
X-WR-CALNAME:NACM Intermountain
X-ORIGINAL-URL:https://www.nacmint.com
X-WR-CALDESC:Events for NACM Intermountain
REFRESH-INTERVAL;VALUE=DURATION:PT1H
X-Robots-Tag:noindex
X-PUBLISHED-TTL:PT1H
BEGIN:VTIMEZONE
TZID:America/Denver
BEGIN:DAYLIGHT
TZOFFSETFROM:-0700
TZOFFSETTO:-0600
TZNAME:MDT
DTSTART:20240310T090000
END:DAYLIGHT
BEGIN:STANDARD
TZOFFSETFROM:-0600
TZOFFSETTO:-0700
TZNAME:MST
DTSTART:20241103T080000
END:STANDARD
BEGIN:DAYLIGHT
TZOFFSETFROM:-0700
TZOFFSETTO:-0600
TZNAME:MDT
DTSTART:20250309T090000
END:DAYLIGHT
BEGIN:STANDARD
TZOFFSETFROM:-0600
TZOFFSETTO:-0700
TZNAME:MST
DTSTART:20251102T080000
END:STANDARD
BEGIN:DAYLIGHT
TZOFFSETFROM:-0700
TZOFFSETTO:-0600
TZNAME:MDT
DTSTART:20260308T090000
END:DAYLIGHT
BEGIN:STANDARD
TZOFFSETFROM:-0600
TZOFFSETTO:-0700
TZNAME:MST
DTSTART:20261101T080000
END:STANDARD
END:VTIMEZONE
BEGIN:VEVENT
DTSTART;TZID=America/Denver:20251120T100000
DTEND;TZID=America/Denver:20251120T110000
DTSTAMP:20260419T101603
CREATED:20251003T163514Z
LAST-MODIFIED:20251105T215221Z
UID:3446-1763632800-1763636400@www.nacmint.com
SUMMARY:Trade Group - Packaging Suppliers
DESCRIPTION:Industry Groups meet to maximize your business needs by leveraging the collective knowledge of your industry peers. All Industry Trade Groups adhere to strict antitrust law and best ethical practices. For more information visit the Groups page on this site. \n2025 Packaging Services
URL:https://www.nacmint.com/event/trade-group-packaging-suppliers/
ATTACH;FMTTYPE=image/png:https://www.nacmint.com/wp-content/uploads/2025/08/Website-Image-Template.png
END:VEVENT
BEGIN:VEVENT
DTSTART;TZID=America/Denver:20251120T120000
DTEND;TZID=America/Denver:20251120T133000
DTSTAMP:20260419T101603
CREATED:20251003T163617Z
LAST-MODIFIED:20251003T165917Z
UID:3448-1763640000-1763645400@www.nacmint.com
SUMMARY:Trade Group - Utah County Construction
DESCRIPTION:Industry Groups meet to maximize your business needs by leveraging the collective knowledge of your industry peers. All Industry Trade Groups adhere to strict antitrust law and best ethical practices. For more information visit the Groups page on this site. \n2025 Southern Utah Construction & Building Trades
URL:https://www.nacmint.com/event/trade-group-utah-county-construction/
ATTACH;FMTTYPE=image/png:https://www.nacmint.com/wp-content/uploads/2025/08/Website-Image-Template.png
END:VEVENT
END:VCALENDAR