BEGIN:VCALENDAR
VERSION:2.0
PRODID:-//NACM Intermountain - ECPv6.15.20//NONSGML v1.0//EN
CALSCALE:GREGORIAN
METHOD:PUBLISH
X-WR-CALNAME:NACM Intermountain
X-ORIGINAL-URL:https://www.nacmint.com
X-WR-CALDESC:Events for NACM Intermountain
REFRESH-INTERVAL;VALUE=DURATION:PT1H
X-Robots-Tag:noindex
X-PUBLISHED-TTL:PT1H
BEGIN:VTIMEZONE
TZID:America/Denver
BEGIN:DAYLIGHT
TZOFFSETFROM:-0700
TZOFFSETTO:-0600
TZNAME:MDT
DTSTART:20240310T090000
END:DAYLIGHT
BEGIN:STANDARD
TZOFFSETFROM:-0600
TZOFFSETTO:-0700
TZNAME:MST
DTSTART:20241103T080000
END:STANDARD
BEGIN:DAYLIGHT
TZOFFSETFROM:-0700
TZOFFSETTO:-0600
TZNAME:MDT
DTSTART:20250309T090000
END:DAYLIGHT
BEGIN:STANDARD
TZOFFSETFROM:-0600
TZOFFSETTO:-0700
TZNAME:MST
DTSTART:20251102T080000
END:STANDARD
BEGIN:DAYLIGHT
TZOFFSETFROM:-0700
TZOFFSETTO:-0600
TZNAME:MDT
DTSTART:20260308T090000
END:DAYLIGHT
BEGIN:STANDARD
TZOFFSETFROM:-0600
TZOFFSETTO:-0700
TZNAME:MST
DTSTART:20261101T080000
END:STANDARD
END:VTIMEZONE
BEGIN:VEVENT
DTSTART;TZID=America/Denver:20250908T120000
DTEND;TZID=America/Denver:20250908T130000
DTSTAMP:20260419T114409
CREATED:20250829T221640Z
LAST-MODIFIED:20250829T221746Z
UID:3317-1757332800-1757336400@www.nacmint.com
SUMMARY:NACM Food & Hospitality Industry Trade Group
DESCRIPTION:Meeting the 2nd Wednesday every other month\, the Food & Hospitality Industry Trade Group meets to maximize your business needs by leveraging the collective knowledge of your industry peers. All Industry Trade Groups adhere to strict antitrust law and best ethical practices. For more information visit the Groups page on this site.
URL:https://www.nacmint.com/event/nacm-food-hospitality-industry-trade-group/
ATTACH;FMTTYPE=image/png:https://www.nacmint.com/wp-content/uploads/2025/08/Website-Image-Template.png
END:VEVENT
BEGIN:VEVENT
DTSTART;TZID=America/Denver:20250909T120000
DTEND;TZID=America/Denver:20250909T130000
DTSTAMP:20260419T114409
CREATED:20250829T222029Z
LAST-MODIFIED:20250829T222029Z
UID:3338-1757419200-1757422800@www.nacmint.com
SUMMARY:NACM Floor Covering Industry Trade Group
DESCRIPTION:Meeting on the third Wednesday of every other month\, the Floor Covering Industry Trade Group meets to maximize your business needs by leveraging the collective knowledge of your industry peers. All Industry Trade Groups adhere to strict antitrust law and best ethical practices. For more information visit the Groups page on this site.
URL:https://www.nacmint.com/event/nacm-floor-covering-industry-trade-group/
ATTACH;FMTTYPE=image/png:https://www.nacmint.com/wp-content/uploads/2025/08/Website-Image-Template.png
END:VEVENT
BEGIN:VEVENT
DTSTART;TZID=America/Denver:20250916T120000
DTEND;TZID=America/Denver:20250916T130000
DTSTAMP:20260419T114409
CREATED:20250925T200828Z
LAST-MODIFIED:20250925T200828Z
UID:3366-1758024000-1758027600@www.nacmint.com
SUMMARY:NACM Construction and Building Trades Group
DESCRIPTION:Meeting the 3rd Tuesday of every month\, the Construction & Building Trades Industry Trade Group meets to maximize your business needs by leveraging the collective knowledge of your industry peers. All Industry Trade Groups adhere to strict antitrust law and best ethical practices. For more information visit the Groups page on this site.
URL:https://www.nacmint.com/event/nacm-construction-and-building-trades-group/
ATTACH;FMTTYPE=image/png:https://www.nacmint.com/wp-content/uploads/2025/08/Website-Image-Template.png
END:VEVENT
BEGIN:VEVENT
DTSTART;TZID=America/Denver:20250917T120000
DTEND;TZID=America/Denver:20250917T130000
DTSTAMP:20260419T114409
CREATED:20250925T201022Z
LAST-MODIFIED:20250925T201022Z
UID:3368-1758110400-1758114000@www.nacmint.com
SUMMARY:NACM Heating\, Plumbing\, & Electrical Trade Group
DESCRIPTION:Meeting the 3rd Wednesday of every month\, the Heating\, Plumbing\, & Electrical Industry Trade Group meets to maximize your business needs by leveraging the collective knowledge of your industry peers. All Industry Trade Groups adhere to strict antitrust law and best ethical practices. For more information visit the Groups page on this site.
URL:https://www.nacmint.com/event/nacm-heating-plumbing-electrical-trade-group/
ATTACH;FMTTYPE=image/png:https://www.nacmint.com/wp-content/uploads/2025/08/Website-Image-Template.png
END:VEVENT
BEGIN:VEVENT
DTSTART;VALUE=DATE:20250918
DTEND;VALUE=DATE:20250919
DTSTAMP:20260419T114409
CREATED:20250925T201632Z
LAST-MODIFIED:20250925T201632Z
UID:3375-1758153600-1758239999@www.nacmint.com
SUMMARY:NACM Regional Ag Industry Trade Group
DESCRIPTION:Meeting three times each year\, the Regional Agriculture Industry Trade Group meets to maximize your business needs by leveraging the collective knowledge of your industry peers. All Industry Trade Groups adhere to strict antitrust law and best ethical practices. For more information visit the Groups page on this site.
URL:https://www.nacmint.com/event/nacm-regional-ag-industry-trade-group/
ATTACH;FMTTYPE=image/png:https://www.nacmint.com/wp-content/uploads/2025/08/Website-Image-Template.png
END:VEVENT
BEGIN:VEVENT
DTSTART;TZID=America/Denver:20250918T120000
DTEND;TZID=America/Denver:20250918T130000
DTSTAMP:20260419T114409
CREATED:20250925T201211Z
LAST-MODIFIED:20250925T201443Z
UID:3370-1758196800-1758200400@www.nacmint.com
SUMMARY:NACM Utah County Building Trades Group
DESCRIPTION:Meeting on the 3rd Thursday of every month\, the Utah County Building Trades Industry Trade Group meets to maximize your business needs by leveraging the collective knowledge of your industry peers. All Industry Trade Groups adhere to strict antitrust law and best ethical practices. For more information visit the Groups page on this site.
URL:https://www.nacmint.com/event/nacm-utah-county-building-trades-group/
ATTACH;FMTTYPE=image/png:https://www.nacmint.com/wp-content/uploads/2025/08/Website-Image-Template.png
END:VEVENT
BEGIN:VEVENT
DTSTART;TZID=America/Denver:20250919T120000
DTEND;TZID=America/Denver:20250919T130000
DTSTAMP:20260419T114409
CREATED:20250925T201410Z
LAST-MODIFIED:20250925T201410Z
UID:3372-1758283200-1758286800@www.nacmint.com
SUMMARY:NACM Southern Utah Construction Trades Group
DESCRIPTION:Meeting on the 3rd Friday of every other month\, the Southern Utah Building Trades Industry Trade Group meets to maximize your business needs by leveraging the collective knowledge of your industry peers. All Industry Trade Groups adhere to strict antitrust law and best ethical practices. For more information visit the Groups page on this site.
URL:https://www.nacmint.com/event/nacm-southern-utah-construction-trades-group/
ATTACH;FMTTYPE=image/png:https://www.nacmint.com/wp-content/uploads/2025/08/Website-Image-Template.png
END:VEVENT
BEGIN:VEVENT
DTSTART;TZID=America/Denver:20250922T120000
DTEND;TZID=America/Denver:20250922T130000
DTSTAMP:20260419T114409
CREATED:20250925T215510Z
LAST-MODIFIED:20250925T215510Z
UID:3377-1758542400-1758546000@www.nacmint.com
SUMMARY:NACM Best Practices Group
DESCRIPTION:Meeting the 4th Monday of every month\, the Best Practices Trade Group meets to maximize your business needs by leveraging the collective knowledge of your industry peers. All Industry Trade Groups adhere to strict antitrust law and best ethical practices. For more information visit the Groups page on this site.
URL:https://www.nacmint.com/event/nacm-best-practices-group/
ATTACH;FMTTYPE=image/png:https://www.nacmint.com/wp-content/uploads/2025/08/Website-Image-Template.png
END:VEVENT
BEGIN:VEVENT
DTSTART;TZID=America/Denver:20250923T120000
DTEND;TZID=America/Denver:20250923T130000
DTSTAMP:20260419T114409
CREATED:20250925T215718Z
LAST-MODIFIED:20250925T215718Z
UID:3379-1758628800-1758632400@www.nacmint.com
SUMMARY:NACM Equipment Dealers & Transportation Trade Group
DESCRIPTION:Meeting the 4th Tuesday of every month\, the Equipment Dealers & Transportation Industry Trade Group meets to maximize your business needs by leveraging the collective knowledge of your industry peers. All Industry Trade Groups adhere to strict antitrust law and best ethical practices. For more information visit the Groups page on this site.
URL:https://www.nacmint.com/event/nacm-equipment-dealers-transportation-trade-group/
ATTACH;FMTTYPE=image/png:https://www.nacmint.com/wp-content/uploads/2025/08/Website-Image-Template.png
END:VEVENT
BEGIN:VEVENT
DTSTART;TZID=America/Denver:20250925T100000
DTEND;TZID=America/Denver:20250925T110000
DTSTAMP:20260419T114409
CREATED:20250925T215921Z
LAST-MODIFIED:20250925T215921Z
UID:3381-1758794400-1758798000@www.nacmint.com
SUMMARY:NACM Rocky Mountain Building Trades Group
DESCRIPTION:Meeting the 4th Thursday of every other month\, the Rocky Mountain Building Trades Industry Trade Group meets to maximize your business needs by leveraging the collective knowledge of your industry peers. All Industry Trade Groups adhere to strict antitrust law and best ethical practices. For more information visit the Groups page on this site.
URL:https://www.nacmint.com/event/nacm-rocky-mountain-building-trades-group/
ATTACH;FMTTYPE=image/png:https://www.nacmint.com/wp-content/uploads/2025/08/Website-Image-Template.png
END:VEVENT
END:VCALENDAR