BEGIN:VCALENDAR
VERSION:2.0
PRODID:-//NACM Intermountain - ECPv6.15.20//NONSGML v1.0//EN
CALSCALE:GREGORIAN
METHOD:PUBLISH
X-ORIGINAL-URL:https://www.nacmint.com
X-WR-CALDESC:Events for NACM Intermountain
REFRESH-INTERVAL;VALUE=DURATION:PT1H
X-Robots-Tag:noindex
X-PUBLISHED-TTL:PT1H
BEGIN:VTIMEZONE
TZID:America/Denver
BEGIN:DAYLIGHT
TZOFFSETFROM:-0700
TZOFFSETTO:-0600
TZNAME:MDT
DTSTART:20250309T090000
END:DAYLIGHT
BEGIN:STANDARD
TZOFFSETFROM:-0600
TZOFFSETTO:-0700
TZNAME:MST
DTSTART:20251102T080000
END:STANDARD
BEGIN:DAYLIGHT
TZOFFSETFROM:-0700
TZOFFSETTO:-0600
TZNAME:MDT
DTSTART:20260308T090000
END:DAYLIGHT
BEGIN:STANDARD
TZOFFSETFROM:-0600
TZOFFSETTO:-0700
TZNAME:MST
DTSTART:20261101T080000
END:STANDARD
BEGIN:DAYLIGHT
TZOFFSETFROM:-0700
TZOFFSETTO:-0600
TZNAME:MDT
DTSTART:20270314T090000
END:DAYLIGHT
BEGIN:STANDARD
TZOFFSETFROM:-0600
TZOFFSETTO:-0700
TZNAME:MST
DTSTART:20271107T080000
END:STANDARD
END:VTIMEZONE
BEGIN:VEVENT
DTSTART;TZID=America/Denver:20260203T130000
DTEND;TZID=America/Denver:20260203T140000
DTSTAMP:20260421T054238
CREATED:20260127T173832Z
LAST-MODIFIED:20260127T173832Z
UID:3772-1770123600-1770127200@www.nacmint.com
SUMMARY:NACM National Webinar: Mentoring in Motion: A Candid Conversation with a Mentor–Mentee Duo
DESCRIPTION:Hear a candid conversation between a mentor and mentee in the credit profession as they share how their relationship took shape\, what made it work\, and the lessons learned along the way. Walk away with real-world insights you can apply to strengthen mentoring relationships at any stage of your career with Scott Chase\, CCE\, ICCE and Terri Eggebeen. \n*This event is being presented by a third-party partner of NACM Intermountain. This post is for informational purposes only. Our team is not responsible for the content presented or technical issues you may encounter while participating. 
URL:https://www.nacmint.com/event/nacm-national-webinar-mentoring-in-motion-a-candid-conversation-with-a-mentor-mentee-duo/
END:VEVENT
END:VCALENDAR