BEGIN:VCALENDAR
VERSION:2.0
PRODID:-//NACM Intermountain - ECPv6.15.20//NONSGML v1.0//EN
CALSCALE:GREGORIAN
METHOD:PUBLISH
X-WR-CALNAME:NACM Intermountain
X-ORIGINAL-URL:https://www.nacmint.com
X-WR-CALDESC:Events for NACM Intermountain
REFRESH-INTERVAL;VALUE=DURATION:PT1H
X-Robots-Tag:noindex
X-PUBLISHED-TTL:PT1H
BEGIN:VTIMEZONE
TZID:America/Denver
BEGIN:DAYLIGHT
TZOFFSETFROM:-0700
TZOFFSETTO:-0600
TZNAME:MDT
DTSTART:20240310T090000
END:DAYLIGHT
BEGIN:STANDARD
TZOFFSETFROM:-0600
TZOFFSETTO:-0700
TZNAME:MST
DTSTART:20241103T080000
END:STANDARD
BEGIN:DAYLIGHT
TZOFFSETFROM:-0700
TZOFFSETTO:-0600
TZNAME:MDT
DTSTART:20250309T090000
END:DAYLIGHT
BEGIN:STANDARD
TZOFFSETFROM:-0600
TZOFFSETTO:-0700
TZNAME:MST
DTSTART:20251102T080000
END:STANDARD
BEGIN:DAYLIGHT
TZOFFSETFROM:-0700
TZOFFSETTO:-0600
TZNAME:MDT
DTSTART:20260308T090000
END:DAYLIGHT
BEGIN:STANDARD
TZOFFSETFROM:-0600
TZOFFSETTO:-0700
TZNAME:MST
DTSTART:20261101T080000
END:STANDARD
END:VTIMEZONE
BEGIN:VEVENT
DTSTART;TZID=America/Denver:20251021T130000
DTEND;TZID=America/Denver:20251021T140000
DTSTAMP:20260419T072712
CREATED:20251014T173158Z
LAST-MODIFIED:20251014T173158Z
UID:3481-1761051600-1761055200@www.nacmint.com
SUMMARY:Partner Webinar: CFDD Tacoma/Seattle - Washington State Legislative Webinar
DESCRIPTION:Mark Gjurasic\, our NACM-WWA Lobbyist\, and his associate Chester Baldwin\, will be presenting on Washington state’s local legislative activities in Olympia. Join us for updates affecting local businesses and topics relevant to credit professionals doing business in Washington state. To register\, click on the email address below. \nDate: October 21\,2025 \nTime: Noon\, Pacific Time \nCOST: Complimentary to: CFDD & NACM Members \nRSVP to: Heidi@StarRentals.com   \n \n*This event is being presented by a third-party partner of NACM Intermountain. This post is for informational purposes only. Our team is not responsible for the content presented or technical issues you may encounter while participating.  \n \n 
URL:https://www.nacmint.com/event/partner-webinar-cfdd-tacoma-seattle-washington-state-legislative-webinar/
END:VEVENT
END:VCALENDAR