BEGIN:VCALENDAR
VERSION:2.0
PRODID:-//NACM Intermountain - ECPv6.15.20//NONSGML v1.0//EN
CALSCALE:GREGORIAN
METHOD:PUBLISH
X-WR-CALNAME:NACM Intermountain
X-ORIGINAL-URL:https://www.nacmint.com
X-WR-CALDESC:Events for NACM Intermountain
REFRESH-INTERVAL;VALUE=DURATION:PT1H
X-Robots-Tag:noindex
X-PUBLISHED-TTL:PT1H
BEGIN:VTIMEZONE
TZID:America/Denver
BEGIN:DAYLIGHT
TZOFFSETFROM:-0700
TZOFFSETTO:-0600
TZNAME:MDT
DTSTART:20250309T090000
END:DAYLIGHT
BEGIN:STANDARD
TZOFFSETFROM:-0600
TZOFFSETTO:-0700
TZNAME:MST
DTSTART:20251102T080000
END:STANDARD
BEGIN:DAYLIGHT
TZOFFSETFROM:-0700
TZOFFSETTO:-0600
TZNAME:MDT
DTSTART:20260308T090000
END:DAYLIGHT
BEGIN:STANDARD
TZOFFSETFROM:-0600
TZOFFSETTO:-0700
TZNAME:MST
DTSTART:20261101T080000
END:STANDARD
BEGIN:DAYLIGHT
TZOFFSETFROM:-0700
TZOFFSETTO:-0600
TZNAME:MDT
DTSTART:20270314T090000
END:DAYLIGHT
BEGIN:STANDARD
TZOFFSETFROM:-0600
TZOFFSETTO:-0700
TZNAME:MST
DTSTART:20271107T080000
END:STANDARD
END:VTIMEZONE
BEGIN:VEVENT
DTSTART;TZID=America/Denver:20260421T090000
DTEND;TZID=America/Denver:20260421T110000
DTSTAMP:20260421T035013
CREATED:20251208T161258Z
LAST-MODIFIED:20251230T183905Z
UID:3649-1776762000-1776769200@www.nacmint.com
SUMMARY:Excel Conditional Formatting
DESCRIPTION:This virtual Microsoft Suite series class taught by Neal Otto will follow the schedule below. Each class must be registered for by emailing steph@nacmint.com; cost per class is $135/pp. The series is a la carte and no one must attend every class. All times are Mountain. \nExcel Conditional Formatting \nThis in-depth course on Excel’s Conditional Formatting begins with foundational concepts and rapidly progresses to advanced techniques. Students will learn to make key data stand out by applying a range of visual enhancements\, including colors\, icons\, and data bars\, making it easier to identify trends\, patterns\, and outliers in their datasets.\nKey Takeaways:\n• Utilize basic conditional formatting for quick data insights\n• Apply formatting rules to entire rows or columns based on single or multiple cell values\n• Format data dynamically to reflect specific dates or date ranges\n• Identify and highlight duplicate entries for cleaner data management\n• Integrate the AND/OR functions to create more sophisticated formatting rules\n• Use advanced formatting options\, such as icon sets\, three/four color scales\, and data bars\, to visually represent data variations \nNeal Otto Bio: \n“People work too hard to get simple things done!” quotes Neal Otto\, Jumpstart Computer Training. Neal and Jumpstart believe that technology should reduce waste and help us all get more of the right things done\, faster. Since 1996\, Neal and Jumpstart have helped tens of thousands of individuals improve their use of Microsoft technologies.\nNeal\, a former high school teacher\, is known for his broad knowledge of an extensive array of Microsoft software and his ability to connect with students of all abilities and styles. Given his background\, he can keep audiences engaged and entertained.\nNeal lives in Corvallis Oregon with his sweetheart Shannon. Linus THE Wonder Dog and Cali THE Wonder Dog 2 keep Neal company in his office during webinars. Neal is a long-distance bicyclist and loves to spend any spare time in his shop making sawdust or in the kitchen making bread. Son Nathan is the CFO of Fluke Healthcare; daughter Brynne is self-employed and resides in Bellingham Washington. \n\n\n\n\nSubject\n\n\nStart\n\n\nEnd\n\n\n\n\nExcel Essentials\n\n\nTue 1/27/2026 9 AM\n\n\nTue 1/27/2026 1 PM\n\n\n\n\nExcel Calculations and Charts\n\n\nTue 2/10/2026 9 AM\n\n\nTue 2/10/2026 1 PM\n\n\n\n\nOutlook - Simplify\, Organize\, and Boost Productivity\n\n\nTue 2/24/2026 9 AM\n\n\nTue 2/24/2026 1 PM\n\n\n\n\nExcel Database/List Management\n\n\nTue 3/10/2026 9 AM\n\n\nTue 3/10/2026 1 PM\n\n\n\n\nExcel Get and Transform\n\n\nTue 3/24/2026 9 AM\n\n\nTue 3/24/2026 1 PM\n\n\n\n\nWord for Contracts\, Manuals\, and Other Large Documents\n\n\nTue 4/7/2026 9 AM\n\n\nTue 4/7/2026 1 PM\n\n\n\n\nExcel Conditional Formatting\n\n\nTue 4/21/2026 9 AM\n\n\nTue 4/21/2026 11 AM\n\n\n\n\n 
URL:https://www.nacmint.com/event/excel-conditional-formatting/
ATTACH;FMTTYPE=image/png:https://www.nacmint.com/wp-content/uploads/2025/12/7.png
END:VEVENT
BEGIN:VEVENT
DTSTART;TZID=America/Denver:20260421T120000
DTEND;TZID=America/Denver:20260421T130000
DTSTAMP:20260421T035013
CREATED:20260330T020708Z
LAST-MODIFIED:20260330T020708Z
UID:3915-1776772800-1776776400@www.nacmint.com
SUMMARY:Trade Group: Construction & Building Trades
DESCRIPTION:Industry Groups meet to maximize your business needs by leveraging the collective knowledge of your industry peers. All Industry Trade Groups adhere to strict antitrust law and best ethical practices. For more information visit the Groups page on this site.
URL:https://www.nacmint.com/event/trade-group-construction-building-trades-5/
END:VEVENT
BEGIN:VEVENT
DTSTART;TZID=America/Denver:20260421T130000
DTEND;TZID=America/Denver:20260421T140000
DTSTAMP:20260421T035013
CREATED:20260407T183002Z
LAST-MODIFIED:20260407T183016Z
UID:4068-1776776400-1776780000@www.nacmint.com
SUMMARY:NACM National Webinar: Preparing the Next Generation of Credit Leaders
DESCRIPTION:What happens when your most experienced credit professionals retire or move on? \nWithout a succession plan\, organizations risk losing critical knowledge\, leadership continuity\, and operational stability. This session will explore how credit leaders can proactively prepare for the future by identifying emerging talent\, developing leadership skills within their teams\, and building a sustainable leadership pipeline. \nJoin us to learn practical strategies for strengthening your credit department today while preparing the next generation of leaders for tomorrow. \nAbout the speakers:\nJoAnn Malz\, Director Credit\, Collections and Billing\, Imagine \n\n\n\n\nJoAnn Malz\, CCE\, ICCE\, has spent her entire career in credit\, growing from Credit Analyst to Director of Global Customer Financial Services. She is currently the Director of Credit\, Collections\, and Billing with The Imagine Group. JoAnn has been an active member of FORIUS/NACM North Central\, NACM and FCIB. She earned her CCE certification in March 1998\, FCIB’s CICP designation upon completing the International Credit & Risk Management course in December 2005 and then FCIB’s ICCE designation in January 2012. FORIUS awarded JoAnn with the Credit Executive of the Year in 2007. JoAnn served on the FORIUS Board of Directors\, serving as chair from 2011-2012. She has also served on the FCIB Board of Advisors and the NACM National Board of Directors and is currently serving as NACM’s Chair. \n*This event is being presented by a third-party partner of NACM Intermountain. This post is for informational purposes only. Our team is not responsible for the content presented or technical issues you may encounter while participating. 
URL:https://www.nacmint.com/event/nacm-national-webinar-preparing-the-next-generation-of-credit-leaders/
END:VEVENT
END:VCALENDAR