BEGIN:VCALENDAR
VERSION:2.0
PRODID:-//NACM Intermountain - ECPv6.15.20//NONSGML v1.0//EN
CALSCALE:GREGORIAN
METHOD:PUBLISH
X-WR-CALNAME:NACM Intermountain
X-ORIGINAL-URL:https://www.nacmint.com
X-WR-CALDESC:Events for NACM Intermountain
REFRESH-INTERVAL;VALUE=DURATION:PT1H
X-Robots-Tag:noindex
X-PUBLISHED-TTL:PT1H
BEGIN:VTIMEZONE
TZID:America/Denver
BEGIN:DAYLIGHT
TZOFFSETFROM:-0700
TZOFFSETTO:-0600
TZNAME:MDT
DTSTART:20240310T090000
END:DAYLIGHT
BEGIN:STANDARD
TZOFFSETFROM:-0600
TZOFFSETTO:-0700
TZNAME:MST
DTSTART:20241103T080000
END:STANDARD
BEGIN:DAYLIGHT
TZOFFSETFROM:-0700
TZOFFSETTO:-0600
TZNAME:MDT
DTSTART:20250309T090000
END:DAYLIGHT
BEGIN:STANDARD
TZOFFSETFROM:-0600
TZOFFSETTO:-0700
TZNAME:MST
DTSTART:20251102T080000
END:STANDARD
BEGIN:DAYLIGHT
TZOFFSETFROM:-0700
TZOFFSETTO:-0600
TZNAME:MDT
DTSTART:20260308T090000
END:DAYLIGHT
BEGIN:STANDARD
TZOFFSETFROM:-0600
TZOFFSETTO:-0700
TZNAME:MST
DTSTART:20261101T080000
END:STANDARD
END:VTIMEZONE
BEGIN:VEVENT
DTSTART;TZID=America/Denver:20250728T083000
DTEND;TZID=America/Denver:20250728T113000
DTSTAMP:20260419T072214
CREATED:20250703T225710Z
LAST-MODIFIED:20250703T225710Z
UID:3131-1753691400-1753702200@www.nacmint.com
SUMMARY:Credit Boot Camp
DESCRIPTION:Credit Boot Camp is perfect for new credit professionals and those who need a refresher. In this training session\, we cover \n\nCredit Policy\nCredit Applications\nCredit Investigations\nCollections\n\nThis 3-hour training is a basic training to jump start credit managers to a successful start to their B2B credit journey.
URL:https://www.nacmint.com/event/credit-boot-camp/
LOCATION:NACM Offices\, 5710 S Green St\, Murray\, 84123\, United States
ATTACH;FMTTYPE=image/png:https://www.nacmint.com/wp-content/uploads/2025/07/Boot-Camp-2.png
END:VEVENT
END:VCALENDAR