BEGIN:VCALENDAR
VERSION:2.0
PRODID:-//NACM Intermountain - ECPv6.15.20//NONSGML v1.0//EN
CALSCALE:GREGORIAN
METHOD:PUBLISH
X-ORIGINAL-URL:https://www.nacmint.com
X-WR-CALDESC:Events for NACM Intermountain
REFRESH-INTERVAL;VALUE=DURATION:PT1H
X-Robots-Tag:noindex
X-PUBLISHED-TTL:PT1H
BEGIN:VTIMEZONE
TZID:America/Denver
BEGIN:DAYLIGHT
TZOFFSETFROM:-0700
TZOFFSETTO:-0600
TZNAME:MDT
DTSTART:20240310T090000
END:DAYLIGHT
BEGIN:STANDARD
TZOFFSETFROM:-0600
TZOFFSETTO:-0700
TZNAME:MST
DTSTART:20241103T080000
END:STANDARD
BEGIN:DAYLIGHT
TZOFFSETFROM:-0700
TZOFFSETTO:-0600
TZNAME:MDT
DTSTART:20250309T090000
END:DAYLIGHT
BEGIN:STANDARD
TZOFFSETFROM:-0600
TZOFFSETTO:-0700
TZNAME:MST
DTSTART:20251102T080000
END:STANDARD
BEGIN:DAYLIGHT
TZOFFSETFROM:-0700
TZOFFSETTO:-0600
TZNAME:MDT
DTSTART:20260308T090000
END:DAYLIGHT
BEGIN:STANDARD
TZOFFSETFROM:-0600
TZOFFSETTO:-0700
TZNAME:MST
DTSTART:20261101T080000
END:STANDARD
END:VTIMEZONE
BEGIN:VEVENT
DTSTART;TZID=America/Denver:20250710T120000
DTEND;TZID=America/Denver:20250710T133000
DTSTAMP:20260419T084407
CREATED:20250703T224154Z
LAST-MODIFIED:20250703T224154Z
UID:3128-1752148800-1752154200@www.nacmint.com
SUMMARY:ICEL/CFDD - UDOT Update
DESCRIPTION:The Intermountain Credit Education League and Phoenix chapter of CFDD hold meetings the 2nd Thursday of every month. For more information on the upcoming schedule or how to join these education leagues\, reach out to Steph@nacmint.com.
URL:https://www.nacmint.com/event/icel-cfdd-udot-update/
ATTACH;FMTTYPE=image/png:https://www.nacmint.com/wp-content/uploads/2025/07/ICELCFDD.png
ORGANIZER;CN="NACM":MAILTO:steph@nacmint.com
END:VEVENT
END:VCALENDAR