BEGIN:VCALENDAR
VERSION:2.0
PRODID:-//NACM Intermountain - ECPv6.15.20//NONSGML v1.0//EN
CALSCALE:GREGORIAN
METHOD:PUBLISH
X-WR-CALNAME:NACM Intermountain
X-ORIGINAL-URL:https://www.nacmint.com
X-WR-CALDESC:Events for NACM Intermountain
REFRESH-INTERVAL;VALUE=DURATION:PT1H
X-Robots-Tag:noindex
X-PUBLISHED-TTL:PT1H
BEGIN:VTIMEZONE
TZID:America/Denver
BEGIN:DAYLIGHT
TZOFFSETFROM:-0700
TZOFFSETTO:-0600
TZNAME:MDT
DTSTART:20240310T090000
END:DAYLIGHT
BEGIN:STANDARD
TZOFFSETFROM:-0600
TZOFFSETTO:-0700
TZNAME:MST
DTSTART:20241103T080000
END:STANDARD
BEGIN:DAYLIGHT
TZOFFSETFROM:-0700
TZOFFSETTO:-0600
TZNAME:MDT
DTSTART:20250309T090000
END:DAYLIGHT
BEGIN:STANDARD
TZOFFSETFROM:-0600
TZOFFSETTO:-0700
TZNAME:MST
DTSTART:20251102T080000
END:STANDARD
BEGIN:DAYLIGHT
TZOFFSETFROM:-0700
TZOFFSETTO:-0600
TZNAME:MDT
DTSTART:20260308T090000
END:DAYLIGHT
BEGIN:STANDARD
TZOFFSETFROM:-0600
TZOFFSETTO:-0700
TZNAME:MST
DTSTART:20261101T080000
END:STANDARD
END:VTIMEZONE
BEGIN:VEVENT
DTSTART;TZID=America/Denver:20250429T163000
DTEND;TZID=America/Denver:20250429T170000
DTSTAMP:20260419T114034
CREATED:20250226T012224Z
LAST-MODIFIED:20250331T225551Z
UID:2881-1745944200-1745946000@www.nacmint.com
SUMMARY:Stockholders Meeting
DESCRIPTION:The NACM Business Credit Services Intermountain | Arizona annual stockholder meeting will be held on April 24\, 2025 virtually. All are welcome to attend. For the meeting link\, register with Lisa Keller\, CCE at lisa@nacmint.com.
URL:https://www.nacmint.com/event/stockholders-meeting/
ATTACH;FMTTYPE=image/png:https://www.nacmint.com/wp-content/uploads/2025/02/Website-Featured-Image-1.png
END:VEVENT
END:VCALENDAR