BEGIN:VCALENDAR
VERSION:2.0
PRODID:-//NACM Intermountain - ECPv6.15.20//NONSGML v1.0//EN
CALSCALE:GREGORIAN
METHOD:PUBLISH
X-ORIGINAL-URL:https://www.nacmint.com
X-WR-CALDESC:Events for NACM Intermountain
REFRESH-INTERVAL;VALUE=DURATION:PT1H
X-Robots-Tag:noindex
X-PUBLISHED-TTL:PT1H
BEGIN:VTIMEZONE
TZID:America/Denver
BEGIN:DAYLIGHT
TZOFFSETFROM:-0700
TZOFFSETTO:-0600
TZNAME:MDT
DTSTART:20240310T090000
END:DAYLIGHT
BEGIN:STANDARD
TZOFFSETFROM:-0600
TZOFFSETTO:-0700
TZNAME:MST
DTSTART:20241103T080000
END:STANDARD
BEGIN:DAYLIGHT
TZOFFSETFROM:-0700
TZOFFSETTO:-0600
TZNAME:MDT
DTSTART:20250309T090000
END:DAYLIGHT
BEGIN:STANDARD
TZOFFSETFROM:-0600
TZOFFSETTO:-0700
TZNAME:MST
DTSTART:20251102T080000
END:STANDARD
BEGIN:DAYLIGHT
TZOFFSETFROM:-0700
TZOFFSETTO:-0600
TZNAME:MDT
DTSTART:20260308T090000
END:DAYLIGHT
BEGIN:STANDARD
TZOFFSETFROM:-0600
TZOFFSETTO:-0700
TZNAME:MST
DTSTART:20261101T080000
END:STANDARD
END:VTIMEZONE
BEGIN:VEVENT
DTSTART;VALUE=DATE:20250401
DTEND;VALUE=DATE:20250402
DTSTAMP:20260419T130459
CREATED:20250226T011251Z
LAST-MODIFIED:20250226T011251Z
UID:2879-1743465600-1743551999@www.nacmint.com
SUMMARY:2025 Board of Directors Ballots Sent
DESCRIPTION:Attention all Members of Record: \nEach year\, some members of the NACM Board of Directors retire and new board members are elected to replace them. Each elected Director serves a term of three years. \nTwo new Board Directors will be elected in 2025 and those elected will serve until 2028. Electronic ballots will be emailed to the named representative of each member company on April 1\, 2025. Voting will be open until Thursday\, April 24\, 2025 at 9:00 AM MDT. Election results will be announced at the Stockholders meeting which will be held on April 24 online. \nFor a full list of candidates\, visit the CreditWise Newsletter for March.
URL:https://www.nacmint.com/event/2025-board-of-directors-ballots-sent/
ATTACH;FMTTYPE=image/png:https://www.nacmint.com/wp-content/uploads/2024/07/NACM-BCSI-AZ-horizontal.png
END:VEVENT
END:VCALENDAR