BEGIN:VCALENDAR
VERSION:2.0
PRODID:-//NACM Intermountain - ECPv6.15.20//NONSGML v1.0//EN
CALSCALE:GREGORIAN
METHOD:PUBLISH
X-WR-CALNAME:NACM Intermountain
X-ORIGINAL-URL:https://www.nacmint.com
X-WR-CALDESC:Events for NACM Intermountain
REFRESH-INTERVAL;VALUE=DURATION:PT1H
X-Robots-Tag:noindex
X-PUBLISHED-TTL:PT1H
BEGIN:VTIMEZONE
TZID:America/Denver
BEGIN:DAYLIGHT
TZOFFSETFROM:-0700
TZOFFSETTO:-0600
TZNAME:MDT
DTSTART:20240310T090000
END:DAYLIGHT
BEGIN:STANDARD
TZOFFSETFROM:-0600
TZOFFSETTO:-0700
TZNAME:MST
DTSTART:20241103T080000
END:STANDARD
BEGIN:DAYLIGHT
TZOFFSETFROM:-0700
TZOFFSETTO:-0600
TZNAME:MDT
DTSTART:20250309T090000
END:DAYLIGHT
BEGIN:STANDARD
TZOFFSETFROM:-0600
TZOFFSETTO:-0700
TZNAME:MST
DTSTART:20251102T080000
END:STANDARD
BEGIN:DAYLIGHT
TZOFFSETFROM:-0700
TZOFFSETTO:-0600
TZNAME:MDT
DTSTART:20260308T090000
END:DAYLIGHT
BEGIN:STANDARD
TZOFFSETFROM:-0600
TZOFFSETTO:-0700
TZNAME:MST
DTSTART:20261101T080000
END:STANDARD
END:VTIMEZONE
BEGIN:VEVENT
DTSTART;TZID=America/Denver:20250130T090000
DTEND;TZID=America/Denver:20250130T120000
DTSTAMP:20260419T153443
CREATED:20250114T201755Z
LAST-MODIFIED:20250114T212607Z
UID:2762-1738227600-1738238400@www.nacmint.com
SUMMARY:Credit Boot Camp - Virtual
DESCRIPTION:Join NACM’s credit experts staff Lisa Keller\, CCE\, Krista Miller\, CBA\, and Steph Johnson\, CCE who will cover \n\nCredit Basics\nCredit Policy\nCredit Investigations\nCollections\n\nCost is $50 per person but is FREE for new credit managers in their first 6-months on the job. \nTo register for this event\, please email steph@nacmint.com \n 
URL:https://www.nacmint.com/event/credit-boot-camp-virtual/
LOCATION:Microsoft Teams Meeting\, United States
ATTACH;FMTTYPE=image/png:https://www.nacmint.com/wp-content/uploads/2025/01/Boot-Camp.png
ORGANIZER;CN="NACM":MAILTO:steph@nacmint.com
END:VEVENT
END:VCALENDAR